BEGIN:VCALENDAR
VERSION:2.0
PRODID:-//Squarespace Inc/Squarespace 6//v6//EN
BEGIN:VEVENT
UID:5c69d164419202ebf6f90531@squarespace.com
DTSTAMP:20190218T024143Z
DTSTART:20190829T220000Z
DTEND:20190831T043000Z
SUMMARY:Vineyard Training: Intensive 2
GEO:-43.53897;172.652055
LOCATION:Grace Vineyard Church\, 150 Ferry Road\, Christchurch\, Canterbury
 \, 8011\, New Zealand
END:VEVENT
END:VCALENDAR
