BEGIN:VCALENDAR
VERSION:2.0
PRODID:-//Squarespace Inc/Squarespace 6//v6//EN
BEGIN:VEVENT
UID:5dcc80be88881b11f60b328c@squarespace.com
DTSTAMP:20191113T235245Z
DTSTART:20200512T220000Z
DTEND:20200513T050000Z
SUMMARY:Administrators and Operators Round Table Day
GEO:-43.53897;172.652055
LOCATION:Grace Vineyard\, 150 Ferry Road\, Christchurch\, Canterbury\, 8011
 \, New Zealand
END:VEVENT
END:VCALENDAR
