BEGIN:VCALENDAR
VERSION:2.0
PRODID:-//Squarespace Inc/Squarespace 6//v6//EN
BEGIN:VEVENT
UID:5dad0bdfc7261d25b39409f4@squarespace.com
DTSTAMP:20191126T000616Z
DTSTART:20200406T220000Z
DTEND:20200407T040000Z
SUMMARY:Leadership Day (CHCH)
GEO:-36.805438;174.725361
LOCATION:Grace Vineyard
END:VEVENT
END:VCALENDAR
