BEGIN:VCALENDAR
VERSION:2.0
PRODID:-//Squarespace Inc/Squarespace 6//v6//EN
BEGIN:VEVENT
UID:5b3acf8f6d2a7342144ae120@squarespace.com
DTSTAMP:20190904T031341Z
DTSTART:20191010T060000Z
DTEND:20191012T090000Z
SUMMARY:TVC 19
END:VEVENT
END:VCALENDAR
