BEGIN:VCALENDAR
VERSION:2.0
PRODID:-//Squarespace Inc/Squarespace 6//v6//EN
BEGIN:VEVENT
UID:58509d41cd0f68d5e11f1be2@squarespace.com
DTSTAMP:20180219T223349Z
DTSTART:20180503T223000Z
DTEND:20180630T073000Z
SUMMARY:Worship Task Force School Of Worship Leading
END:VEVENT
END:VCALENDAR
