BEGIN:VCALENDAR
VERSION:2.0
PRODID:-//Squarespace Inc/Squarespace 6//v6//EN
BEGIN:VEVENT
UID:5612eaa7e4b03d8f4675a619@squarespace.com
DTSTAMP:20160607T223611Z
DTSTART:20160721T073000Z
DTEND:20160723T093000Z
SUMMARY:The Vineyard Conference 2016
GEO:-36.796168;174.767437
LOCATION:Harbourside Church\, Esmonde Road\, Auckland\, Auckland\, New Zeal
 and
END:VEVENT
END:VCALENDAR
