BEGIN:VCALENDAR
VERSION:2.0
PRODID:-//Squarespace Inc/Squarespace 6//v6//EN
BEGIN:VEVENT
UID:55d12754e4b0a784cab729c1@squarespace.com
DTSTAMP:20151005T213739Z
DTSTART:20151124T063000Z
DTEND:20151124T083000Z
SUMMARY:Taste and See // Taranaki
GEO:-39.352761;174.293189
LOCATION:MountainView Vineyard\, 159 Orlando Street\, Stratford\, Taranaki\
 , 4332\, New Zealand
END:VEVENT
END:VCALENDAR
