BEGIN:VCALENDAR
VERSION:2.0
PRODID:-//Squarespace Inc/Squarespace 6//v6//EN
BEGIN:VEVENT
UID:55d1269be4b05658d74bbb51@squarespace.com
DTSTAMP:20150817T013134Z
DTSTART:20150916T073000Z
DTEND:20150916T093000Z
SUMMARY:Taste and See // Snells Beach
GEO:-36.420563;174.723314
LOCATION:The Factory\, 3 Hamatana Rd\, Snells Beach\, Auckland\, 0920\, New 
 Zealand
END:VEVENT
END:VCALENDAR
