BEGIN:VCALENDAR
VERSION:2.0
PRODID:-//Squarespace Inc/Squarespace 6//v6//EN
BEGIN:VEVENT
UID:5536ece0e4b0ce6f220cc8ae@squarespace.com
DTSTAMP:20150510T222543Z
DTSTART:20150821T020000Z
DTEND:20150822T230000Z
SUMMARY:Worship Leaders Training Weekend
GEO:-36.73417;174.622851
LOCATION:Whakata Country Retreat\, 576 Coatesville-Riverhead Hwy\, Auckland
 \, Auckland\, 0793\, New Zealand
END:VEVENT
END:VCALENDAR
