BEGIN:VCALENDAR
VERSION:2.0
PRODID:-//Squarespace Inc/Squarespace 6//v6//EN
BEGIN:VEVENT
UID:5449aef6e4b06cd5a39d8ba1@squarespace.com
DTSTAMP:20141105T025124Z
DTSTART:20141107T060000Z
DTEND:20141108T060000Z
SUMMARY:VCANZ Worship Round Table
GEO:-36.860836;174.75311
LOCATION:Urban Vineyard\, 19 Newton Rd\, Auckland\, Auckland\, 1010\, New Z
 ealand
END:VEVENT
END:VCALENDAR
